BEGIN:VCALENDAR
VERSION:2.0
PRODID:-//Lehigh Valley Charter High School for the Arts//NONSGML v1.0//EN
CALSCALE:GREGORIAN
METHOD:PUBLISH
X-WR-CALNAME:Lehigh Valley Charter High School for the Arts
X-ORIGINAL-URL:https://www.charterarts.org
X-WR-CALDESC:Events for Lehigh Valley Charter High School for the Arts
X-WR-TIMEZONE:America/New_York
BEGIN:VEVENT
DTSTART;VALUE=DATE-TIME:20161216T190000
DTEND;VALUE=DATE-TIME:20161216T210000
DTSTAMP:20260419T133244
CREATED:20161018T175417
LAST-MODIFIED:20161018T175417
UID:12849@https://www.charterarts.org
SUMMARY:Winter Instrumental Concert
DESCRIPTION:
LOCATION:
URL:https://www.charterarts.org/event/winter-instrumental-concert/
END:VEVENT
END:VCALENDAR