BEGIN:VCALENDAR
VERSION:2.0
PRODID:-//Lehigh Valley Charter High School for the Arts//NONSGML v1.0//EN
CALSCALE:GREGORIAN
METHOD:PUBLISH
X-WR-CALNAME:Lehigh Valley Charter High School for the Arts
X-ORIGINAL-URL:https://www.charterarts.org
X-WR-CALDESC:Events for Lehigh Valley Charter High School for the Arts
X-WR-TIMEZONE:America/New_York
BEGIN:VEVENT
DTSTART;VALUE=DATE-TIME:20170106T180000
DTEND;VALUE=DATE-TIME:20170106T210000
DTSTAMP:20260422T154509
CREATED:20161018T175143
LAST-MODIFIED:20161212T121245
UID:12834@https://www.charterarts.org
SUMMARY:First Friday Reception: Winter Student Art Exhibit
DESCRIPTION:First Friday Receptions:  December 2 &amp; January 6\, 6-9pm    Corpora Gallery    Exhibit on display December 2-January 6. Viewings are available by appointment\, contact Lorie Reinhard at lreinhard@charterarts.org
LOCATION:
URL:https://www.charterarts.org/event/winter-student-art-exhibit-2/
END:VEVENT
END:VCALENDAR