BEGIN:VCALENDAR
VERSION:2.0
PRODID:-//Lehigh Valley Charter High School for the Arts//NONSGML v1.0//EN
CALSCALE:GREGORIAN
METHOD:PUBLISH
X-WR-CALNAME:Lehigh Valley Charter High School for the Arts
X-ORIGINAL-URL:https://www.charterarts.org
X-WR-CALDESC:Events for Lehigh Valley Charter High School for the Arts
X-WR-TIMEZONE:America/New_York
BEGIN:VEVENT
DTSTART;VALUE=DATE-TIME:20161212T190000
DTEND;VALUE=DATE-TIME:20161213T190000
DTSTAMP:20260420T130813
CREATED:20161018T175346
LAST-MODIFIED:20161018T175346
UID:12844@https://www.charterarts.org
SUMMARY:Winter Vocal Concert
DESCRIPTION:Charter Arts Theatre    7pm performances on both dates
LOCATION:
URL:https://www.charterarts.org/event/winter-vocal-concert/
END:VEVENT
END:VCALENDAR