BEGIN:VCALENDAR
VERSION:2.0
PRODID:-//Lehigh Valley Charter High School for the Arts//NONSGML v1.0//EN
CALSCALE:GREGORIAN
METHOD:PUBLISH
X-WR-CALNAME:Lehigh Valley Charter High School for the Arts
X-ORIGINAL-URL:https://www.charterarts.org
X-WR-CALDESC:Events for Lehigh Valley Charter High School for the Arts
X-WR-TIMEZONE:America/New_York
BEGIN:VEVENT
DTSTART;VALUE=DATE-TIME:20150305T070000
DTEND;VALUE=DATE-TIME:20150305T210000
DTSTAMP:20260419T140754
CREATED:20141218T134551
LAST-MODIFIED:20141218T134551
UID:9020@https://www.charterarts.org
SUMMARY:Woodwinds and Brass at Godfrey Daniels
DESCRIPTION:
LOCATION:
URL:https://www.charterarts.org/event/woodwinds-brass-godfrey-daniels-2/
END:VEVENT
END:VCALENDAR