BEGIN:VCALENDAR
VERSION:2.0
PRODID:-//Lehigh Valley Charter High School for the Arts//NONSGML v1.0//EN
CALSCALE:GREGORIAN
METHOD:PUBLISH
X-WR-CALNAME:Lehigh Valley Charter High School for the Arts
X-ORIGINAL-URL:https://www.charterarts.org
X-WR-CALDESC:Events for Lehigh Valley Charter High School for the Arts
X-WR-TIMEZONE:America/New_York
BEGIN:VEVENT
DTSTART;VALUE=DATE-TIME:20141120T190000
DTEND;VALUE=DATE-TIME:20141120T210000
DTSTAMP:20260419T150616
CREATED:20140820T142934
LAST-MODIFIED:20140820T142934
UID:7850@https://www.charterarts.org
SUMMARY:Woodwinds & Brass at Godfrey Daniels
DESCRIPTION:Woodwinds &amp; Brass at Godfrey Daniels    7pm    Purchase tickets through Godfrey Daniels:  www.godfreydaniels.org
LOCATION:
URL:https://www.charterarts.org/event/woodwinds-brass-godfrey-daniels/
END:VEVENT
END:VCALENDAR