BEGIN:VCALENDAR
VERSION:2.0
PRODID:-//Lehigh Valley Charter High School for the Arts//NONSGML v1.0//EN
CALSCALE:GREGORIAN
METHOD:PUBLISH
X-WR-CALNAME:Lehigh Valley Charter High School for the Arts
X-ORIGINAL-URL:https://www.charterarts.org
X-WR-CALDESC:Events for Lehigh Valley Charter High School for the Arts
X-WR-TIMEZONE:America/New_York
BEGIN:VEVENT
DTSTART;VALUE=DATE:20170130
DTEND;VALUE=DATE:20170131
DTSTAMP:20260420T222452
CREATED:20170130T091954
LAST-MODIFIED:20170130T091954
UID:13635@https://www.charterarts.org
SUMMARY:Yearbook- Group Picture Day
DESCRIPTION:
LOCATION:
URL:https://www.charterarts.org/event/yearbook-group-picture-day/
END:VEVENT
END:VCALENDAR