BEGIN:VCALENDAR
VERSION:2.0
PRODID:-//Lehigh Valley Charter High School for the Arts//NONSGML v1.0//EN
CALSCALE:GREGORIAN
METHOD:PUBLISH
X-WR-CALNAME:Lehigh Valley Charter High School for the Arts
X-ORIGINAL-URL:https://www.charterarts.org
X-WR-CALDESC:Events for Lehigh Valley Charter High School for the Arts
X-WR-TIMEZONE:America/New_York
BEGIN:VEVENT
DTSTART;VALUE=DATE-TIME:20190412T190000
DTEND;VALUE=DATE-TIME:20190413T190000
DTSTAMP:20260419T133341
CREATED:20180716T145029
LAST-MODIFIED:20181015T140611
UID:16259@https://www.charterarts.org
SUMMARY:Young Choreographers in Concert
DESCRIPTION:Young Choreographers In Concert:  Senior Thesis Concert    Performances:       Friday\, April 12\, 2019    @ 7:00 p.m    Saturday\, April 13\, 2019 @2:00 and 7:00 p.m    Purchase tickets
LOCATION:
URL:https://www.charterarts.org/event/young-choreographers-concert-4/
END:VEVENT
END:VCALENDAR